BEGIN:VCALENDAR
VERSION:2.0
PRODID:-//And ye shall know the truth, and the truth shall make you free (John. 8:32) - ECPv6.15.20//NONSGML v1.0//EN
CALSCALE:GREGORIAN
METHOD:PUBLISH
X-WR-CALNAME:And ye shall know the truth, and the truth shall make you free (John. 8:32)
X-ORIGINAL-URL:https://www.gclgng.com
X-WR-CALDESC:Events for And ye shall know the truth, and the truth shall make you free (John. 8:32)
REFRESH-INTERVAL;VALUE=DURATION:PT1H
X-Robots-Tag:noindex
X-PUBLISHED-TTL:PT1H
BEGIN:VTIMEZONE
TZID:UTC
BEGIN:STANDARD
TZOFFSETFROM:+0000
TZOFFSETTO:+0000
TZNAME:UTC
DTSTART:20230101T000000
END:STANDARD
END:VTIMEZONE
BEGIN:VEVENT
DTSTART;VALUE=DATE:20241204
DTEND;VALUE=DATE:20241209
DTSTAMP:20260419T194909
CREATED:20231230T194004Z
LAST-MODIFIED:20231230T194004Z
UID:1697-1733270400-1733702399@www.gclgng.com
SUMMARY:Open Air Service - December
DESCRIPTION:
URL:https://www.gclgng.com/event/open-air-service-december-2/
CATEGORIES:Open Air Service
END:VEVENT
BEGIN:VEVENT
DTSTART;TZID=UTC:20241214T100000
DTEND;TZID=UTC:20241214T120000
DTSTAMP:20260419T194909
CREATED:20231230T194712Z
LAST-MODIFIED:20231230T194712Z
UID:1709-1734170400-1734177600@www.gclgng.com
SUMMARY:Children Rally
DESCRIPTION:
URL:https://www.gclgng.com/event/children-rally-2/
CATEGORIES:Children Rally
END:VEVENT
BEGIN:VEVENT
DTSTART;TZID=UTC:20241221T100000
DTEND;TZID=UTC:20241221T120000
DTSTAMP:20260419T194909
CREATED:20231230T194831Z
LAST-MODIFIED:20231230T194831Z
UID:1711-1734775200-1734782400@www.gclgng.com
SUMMARY:2024 Choir Concert
DESCRIPTION:
URL:https://www.gclgng.com/event/2024-choir-concert/
CATEGORIES:Other
END:VEVENT
BEGIN:VEVENT
DTSTART;TZID=UTC:20241227T150000
DTEND;TZID=UTC:20241227T190000
DTSTAMP:20260419T194909
CREATED:20231230T194924Z
LAST-MODIFIED:20231230T194924Z
UID:1713-1735311600-1735326000@www.gclgng.com
SUMMARY:Thanksgiving Day
DESCRIPTION:
URL:https://www.gclgng.com/event/thanksgiving-day-3/
CATEGORIES:Thanksgiving Day
END:VEVENT
END:VCALENDAR