BEGIN:VCALENDAR
VERSION:2.0
PRODID:-//And ye shall know the truth, and the truth shall make you free (John. 8:32) - ECPv6.15.20//NONSGML v1.0//EN
CALSCALE:GREGORIAN
METHOD:PUBLISH
X-ORIGINAL-URL:https://www.gclgng.com
X-WR-CALDESC:Events for And ye shall know the truth, and the truth shall make you free (John. 8:32)
REFRESH-INTERVAL;VALUE=DURATION:PT1H
X-Robots-Tag:noindex
X-PUBLISHED-TTL:PT1H
BEGIN:VTIMEZONE
TZID:UTC
BEGIN:STANDARD
TZOFFSETFROM:+0000
TZOFFSETTO:+0000
TZNAME:UTC
DTSTART:20230101T000000
END:STANDARD
END:VTIMEZONE
BEGIN:VEVENT
DTSTART;TZID=UTC:20240822T160000
DTEND;TZID=UTC:20240825T130000
DTSTAMP:20260420T083827
CREATED:20231230T193630Z
LAST-MODIFIED:20231230T194609Z
UID:1689-1724342400-1724590800@www.gclgng.com
SUMMARY:2024 Annual Retreat
DESCRIPTION:
URL:https://www.gclgng.com/event/2024-annual-retreat/
CATEGORIES:Annual Retreat
END:VEVENT
END:VCALENDAR